BEGIN:VCALENDAR
VERSION:2.0
PRODID:-//https://genealogie.hcc.nl///NONSGML kigkonsult.se iCalcreator 2.10.15//
METHOD:PUBLISH
BEGIN:VEVENT
UID:20260421T173245CEST-5149C8c78m@https://genealogie.hcc.nl/
DTSTAMP:20260421T153245Z
DESCRIPTION:Adviseurs van HCC!genelogie zijn aanwezig op de HCC!regiodag in
  Eindhoven.\nJohan van Hassel voor Aldfaer\, Fred Baltus voor MacFamilyTre
 e en John Glaser voor GensDataPro en Ancestor Tree Manager helpen de bezoe
 kers met hun stamboomonderzoek.\nOok voor startende genealogen is er voldo
 ende informatie over Hoe\, Wat en Waar begin ik.\n Klik hier voor info ove
 r het programma die dag\n Klik hier voor de flyer van de HCC!regiodag Einh
 oven https://genealogie.hcc.nl/agenda/evenement/302-hcc-regiodag-einhoven.
 html
DTSTART:20260425T080000Z
DTEND:20260425T140000Z
LOCATION:Wijkcentrum 't Slot (Kastelenplein 167\, 5653 LX Eindhoven)
SUMMARY:HCC!Regiodag Einhoven
URL:https://genealogie.hcc.nl/agenda/evenement/302-hcc-regiodag-einhoven.ht
 ml
END:VEVENT
END:VCALENDAR
